BEGIN:VCALENDAR
VERSION:2.0
PRODID:-//wp-events-plugin.com//7.2.3.1//EN
BEGIN:VEVENT
UID:1@usmvmc-nm1.com
DTSTART:20250120T000000Z
DTEND:20250131T000000Z
DTSTAMP:20250121T012250Z
URL:https://usmvmc-nm1.com/events/test-event/
SUMMARY:Test Event
DESCRIPTION:This is just a test event
ATTACH;FMTTYPE=image/jpeg:https://usmvmc-nm1.com/wp-content/uploads/2025/0
 1/97a36ee7890c4bb59be45bc376a053aa63949b0519ff97ac31df98bda44597c5.jpg
END:VEVENT
END:VCALENDAR